BEGIN:VCALENDAR
VERSION:2.0
PRODID:-//JHP//We love PowerShell!//EN
BEGIN:VTIMEZONE
TZID:Europe/Berlin
X-LIC-LOCATION:Europe/Berlin
BEGIN:DAYLIGHT
TZOFFSETFROM:+0100
TZOFFSETTO:+0200
TZNAME:CEST
DTSTART:19700329T020000
RRULE:FREQ=YEARLY;INTERVAL=1;BYDAY=-1SU;BYMONTH=3
END:DAYLIGHT
BEGIN:STANDARD
TZOFFSETFROM:+0200
TZOFFSETTO:+0100
TZNAME:CET
DTSTART:19701025T030000
RRULE:FREQ=YEARLY;INTERVAL=1;BYDAY=-1SU;BYMONTH=10
END:STANDARD
END:VTIMEZONE
METHOD:PUBLISH
BEGIN:VEVENT
UID:bf6f2d08-d3d8-473c-a239-141ddcfe5694
CREATED:20251201T174417Z
DTSTAMP:20251201T174417Z
LAST-MODIFIED:20251201T174417Z
CLASS:Public
CATEGORIES:
SEQUENCE:0
DTSTART:20260717T220000Z
DTEND:20260718T220000Z
DESCRIPTION:http://feuerwehr-nirnharting.de
SUMMARY:FFN - Grillfeier mit der FF Otting - 2026
LOCATION:
TRANSP:
BEGIN:VALARM
ACTION:DISPLAY
TRIGGER:-PT60M
DESCRIPTION:Erinnerung
END:VALARM
END:VEVENT
END:VCALENDAR
